BEGIN:VCALENDAR
VERSION:2.0
PRODID:-//Geschwister-Scholl-Realschule - ECPv6.8.1//NONSGML v1.0//EN
CALSCALE:GREGORIAN
METHOD:PUBLISH
X-ORIGINAL-URL:https://www.gsr-pfinztal.de
X-WR-CALDESC:Veranstaltungen für Geschwister-Scholl-Realschule
REFRESH-INTERVAL;VALUE=DURATION:PT1H
X-Robots-Tag:noindex
X-PUBLISHED-TTL:PT1H
BEGIN:VTIMEZONE
TZID:Europe/Berlin
BEGIN:DAYLIGHT
TZOFFSETFROM:+0100
TZOFFSETTO:+0200
TZNAME:CEST
DTSTART:20250330T010000
END:DAYLIGHT
BEGIN:STANDARD
TZOFFSETFROM:+0200
TZOFFSETTO:+0100
TZNAME:CET
DTSTART:20251026T010000
END:STANDARD
END:VTIMEZONE
BEGIN:VEVENT
DTSTART;VALUE=DATE:20251001
DTEND;VALUE=DATE:20251002
DTSTAMP:20260425T160357
CREATED:20250911T123621Z
LAST-MODIFIED:20250911T123621Z
UID:3440-1759276800-1759363199@www.gsr-pfinztal.de
SUMMARY:Elternabend Klasse 5 - 7\, 19.30 Uhr
DESCRIPTION:
URL:https://www.gsr-pfinztal.de/termin/elternabend-klasse-5-7-19-30-uhr/
END:VEVENT
BEGIN:VEVENT
DTSTART;VALUE=DATE:20251006
DTEND;VALUE=DATE:20251007
DTSTAMP:20260425T160357
CREATED:20250911T123705Z
LAST-MODIFIED:20250911T123705Z
UID:3442-1759708800-1759795199@www.gsr-pfinztal.de
SUMMARY:Elternabende Klasse 8 - 10\, 19.30 Uhr
DESCRIPTION:
URL:https://www.gsr-pfinztal.de/termin/elternabende-klasse-8-10-19-30-uhr/
END:VEVENT
BEGIN:VEVENT
DTSTART;VALUE=DATE:20251021
DTEND;VALUE=DATE:20251022
DTSTAMP:20260425T160357
CREATED:20250911T123844Z
LAST-MODIFIED:20250911T123844Z
UID:3444-1761004800-1761091199@www.gsr-pfinztal.de
SUMMARY:Berufsmesse ab 13 Uhr\, Julius-Hirsch-Halle
DESCRIPTION:
URL:https://www.gsr-pfinztal.de/termin/berufsmesse-ab-13-uhr-julius-hirsch-halle/
END:VEVENT
BEGIN:VEVENT
DTSTART;VALUE=DATE:20251027
DTEND;VALUE=DATE:20251102
DTSTAMP:20260425T160357
CREATED:20241119T094948Z
LAST-MODIFIED:20241119T094948Z
UID:3028-1761523200-1762041599@www.gsr-pfinztal.de
SUMMARY:Herbstferien
DESCRIPTION:
URL:https://www.gsr-pfinztal.de/termin/herbstferien-5/
END:VEVENT
END:VCALENDAR