BEGIN:VCALENDAR
VERSION:2.0
PRODID:-//Geschwister-Scholl-Realschule - ECPv6.8.1//NONSGML v1.0//EN
CALSCALE:GREGORIAN
METHOD:PUBLISH
X-WR-CALNAME:Geschwister-Scholl-Realschule
X-ORIGINAL-URL:https://www.gsr-pfinztal.de
X-WR-CALDESC:Veranstaltungen für Geschwister-Scholl-Realschule
REFRESH-INTERVAL;VALUE=DURATION:PT1H
X-Robots-Tag:noindex
X-PUBLISHED-TTL:PT1H
BEGIN:VTIMEZONE
TZID:Europe/Berlin
BEGIN:DAYLIGHT
TZOFFSETFROM:+0100
TZOFFSETTO:+0200
TZNAME:CEST
DTSTART:20250330T010000
END:DAYLIGHT
BEGIN:STANDARD
TZOFFSETFROM:+0200
TZOFFSETTO:+0100
TZNAME:CET
DTSTART:20251026T010000
END:STANDARD
END:VTIMEZONE
BEGIN:VEVENT
DTSTART;VALUE=DATE:20250731
DTEND;VALUE=DATE:20250914
DTSTAMP:20260425T184135
CREATED:20240902T205737Z
LAST-MODIFIED:20250126T133634Z
UID:2877-1753920000-1757807999@www.gsr-pfinztal.de
SUMMARY:Sommerferien
DESCRIPTION:
URL:https://www.gsr-pfinztal.de/termin/sommerferien-6/
END:VEVENT
END:VCALENDAR